BEGIN:VCALENDAR
VERSION:2.0
PRODID:-//Austrian Business Council - ECPv6.15.20//NONSGML v1.0//EN
CALSCALE:GREGORIAN
METHOD:PUBLISH
X-WR-CALNAME:Austrian Business Council
X-ORIGINAL-URL:https://www.abc-jpn.net
X-WR-CALDESC:Events for Austrian Business Council
REFRESH-INTERVAL;VALUE=DURATION:PT1H
X-Robots-Tag:noindex
X-PUBLISHED-TTL:PT1H
BEGIN:VTIMEZONE
TZID:Asia/Tokyo
BEGIN:STANDARD
TZOFFSETFROM:+0900
TZOFFSETTO:+0900
TZNAME:JST
DTSTART:20170101T000000
END:STANDARD
END:VTIMEZONE
BEGIN:VEVENT
DTSTART;TZID=Asia/Tokyo:20180419T190000
DTEND;TZID=Asia/Tokyo:20180419T210000
DTSTAMP:20260425T215235
CREATED:20180205T171256Z
LAST-MODIFIED:20210228T161148Z
UID:7962-1524164400-1524171600@www.abc-jpn.net
SUMMARY:"Italia\, Amore Mio!" Joint Chamber Networking Event
DESCRIPTION:It is the first time for the ABC to join the largest Italien festival in Japan\, the “Italia\, Amore Mio!” – 2018 in its third edition. \nOrganized by the Italien Chamber other co-organized chambers include the American\, Canadian\, German\, Austrarian and New Zealand\, Belgian-Luxembourg\, South African and Swiss chamber. \nThe slick newly refurbished warehouse right on Tokyo’s waterway should make for an excellent party/networking venue. \nExpand your business network with professionals from different countries and backgrounds and do not forget to bring plenty of business cards! A spring evening with free-flow drinks\, delicious Italian food and an amazing city view of Tokyo’s canals! \nSeats are limited\, first come first serve basis! \nDetails \nDate:\nApril 19\, 2018\, Thursday\, 7:00 p.m. to 9:00 p.m. \nVenue:\nTerrada Warehouse\nTennozu Isle (Terrada Warehouse\, BC Bldg.\, 2-1-3 Higashi-Shinagawa\, Shinagawa-ku\, Tokyo 140-0002)\nhttps://www.terrada.co.jp/en/ \n2-1-3 Higashi-Shinagawa\, Shinagawa-ku\, Tokyo\nPrice:\nJPY 7.000 for Member\, JPY 9.000 for non MemberFood and free flow drinks included \nRegistration:\nPlease note that cancellations after the deadline or no-shows require full payment. \nDeadline: \nWe are looking forward to your participant to this Joint Chamber Event!
URL:https://www.abc-jpn.net/event/italia-amore-mio-joint-chamber-networking-event
CATEGORIES:Past Events
ATTACH;FMTTYPE=image/png:https://www.abc-jpn.net/wp-content/uploads/noimg.png
END:VEVENT
BEGIN:VEVENT
DTSTART;TZID=Asia/Tokyo:20180405T190000
DTEND;TZID=Asia/Tokyo:20180405T210000
DTSTAMP:20260425T215235
CREATED:20180205T164650Z
LAST-MODIFIED:20210228T172008Z
UID:7946-1522954800-1522962000@www.abc-jpn.net
SUMMARY:Joint Chember Event: Young Professional Networking Party II
DESCRIPTION:Our 2018 edition of the Young Professional Networking. \nAt this informal networking evening Young Professionals from the ABC\, BLCCJ\, the American\, British\, Canadian\, Danish\, Dutch\, French\, German\, Greek\, Italian\, Norwegian\, South-African\, Spanish and Swiss Chambers can gain insights and advice from other\nChamber members on how to navigate the diverse opportunities and transitions you currently face in your career. \nA great opportunity to expand your network\, so bring plenty of business cards\, make friends\, make valuable new connections\, and enjoy an evening of friendly exchange over free-flow drinks and food. \nAnd all this with a splendid view from the 39th floor. \nWe look forward to seeing you there! \nDate:\nThursday 5 April 2018 \nTime:\n19:00-21:00 (doors open 18:30) \nVenue:\nLongrain Tokyo\, Yebisu Garden Place Tower 39F\nhttp://longrain.im-transit.co.jp \nCost:\n JPY 5\,000 members / JPY 7\,000 non-members\nPrice includes free flow of drinks and food (modern Thai) \nMax capacity:\napprox. 180 \nApplication deadline:\nThursday 29 March 17:00 (as this event is very popular\, please register early to secure your seat) \nP.S. the event is dedicated to people up to their 30s \nRegistration: \nDeadline: \nPlease find the event flyer HERE!
URL:https://www.abc-jpn.net/event/joint-chember-event-young-professional-networking-party-ii
CATEGORIES:Past Events
ATTACH;FMTTYPE=image/png:https://www.abc-jpn.net/wp-content/uploads/Young-Professionals-Event_2018.png
END:VEVENT
BEGIN:VEVENT
DTSTART;TZID=Asia/Tokyo:20180208T090000
DTEND;TZID=Asia/Tokyo:20180208T123000
DTSTAMP:20260425T215235
CREATED:20180205T161200Z
LAST-MODIFIED:20210228T171926Z
UID:7915-1518080400-1518093000@www.abc-jpn.net
SUMMARY:The Business of Noh
DESCRIPTION:The next installation of the ABC’s “Business of…” seminar/excursion series is dedicated to one of Japan’s most ancient and yet mysterious art forms – NOH. Difficult to grasp for foreigners even those veterans who have lived her for long time\, the adherence to certain structures and play forms as well as the use of outdated Japanese makes it difficult to understand. \nIn the Business of Noh we will not only have the Noh master explaining in English but also telling us more about the business side of Noh. What are the financial costs and risks involved in Noh performances? Stage and actor costs? What and how do sponsors get engaged? What about the income side of a performance? \nThe Noh master guiding us through this seminar will be Naohiko UMEWAKA\, Ph.D. His family lineage in the art of Noh dates back more than 600 years. Despite these strong roots in the history of Noh\, Mr. Umewaka is known as progressive and ready to experiment with the traditional forms to contemporary tastes. Learn more about Mr. Umewaka at his website. \nThe excursion will lead us to Konno Hachimangu Shrine\, close to the Hikarie building in Shibuya. The shrine has its own Noh stage in the courtyard of the srhine. Due to the expected cold wheather\, we will just have a short introduction outside – done by Mr. Joni Waka\, an art curator often working with the shrine and also with Austrian theaters and performers. \nThe main event will be the introduction to the shrine at 9.30am\, followed by indoor explanation of Noh\, some short performances to demonstrate some Noh techniques\, the discussion of the business side of Noh and ample time for Q&A. The seminar part will conclude around 11.30. \nOptional:\n– 9.00am: a morning prayer together with the shrine priests in the inner sanctuary of the shrine. The prayer for good fortune is delivered also to regular shrine visitors and will be in Japanese only. Feel free to attend\, it will be approx. 20minutes.\n– 11.30am: joint o-bento lunch networking inside the shrine with the Noh master\, shrine representatives\, etc. \nDate:\nFebruary 8\, 2018\, Thursday \nTime:\n9:00am special morning prayer (optional)\n9:30am introduction to the shrine\, then seminar start\n11:30am end of seminar and start optional o-bento lunch networking until approx. 12:30am \nVenue:\nKonnoh Hachimangu Shrine in Shibuya \nKonnoh Hachimangu Shrine\nParticipation Fee:\nJPY 2.000 for event onlyadditional JPY 2.500 for the optional o-bento lunch networking \nPlease find the event flyer HERE! \nBusiness of Noh – Photo Gallery
URL:https://www.abc-jpn.net/event/the-business-of-noh
CATEGORIES:Past Events
ATTACH;FMTTYPE=image/jpeg:https://www.abc-jpn.net/wp-content/uploads/noh-2018.jpg
END:VEVENT
BEGIN:VEVENT
DTSTART;VALUE=DATE:20180127
DTEND;VALUE=DATE:20180128
DTSTAMP:20260425T215235
CREATED:20180127T003000Z
LAST-MODIFIED:20210228T155729Z
UID:7872-1517011200-1517097599@www.abc-jpn.net
SUMMARY:3rd Inter-Chamber Ski Race – Closed
DESCRIPTION:Save the date: 26/27 of January 2019! \nThe race is over\, a great ski networking weekend has come to an end.Our thanks to all participants\, particularly those who tried out in the race or the iSki Marathon!This year we had about 40 race participants\, including five snowboard pioneers. \nThe results are as below:\nJuniors\n\n\n\nRace number\nMr./Ms.\nName\nResult 1st\nResult 2nd\n\n\n\n\n7\nMr.\nTatsuya Leo Dalichau\n35\,218\n34\,424\n\n\n4\nMr.\nKuniharu Kume\n35\,327\n36\,393\n\n\n6\nMr.\nOrion Rumble\n39\,213\n37\,888\n\n\n8\nMr.\nKai Fröhlich\n39\,71\n39\,29\n\n\n1\nMr.\nKayson Zagrosek\n42\,87\n40\,55\n\n\n3\nMr.\nLouis Råberg\n46\,008\n41\,084\n\n\n2\nMr.\nIori Eckardt\n46\,906\n42\,91\n\n\n5\nMr.\nLuc Råberg\n48\,153\n44\,445\n\n\n\nAdults\n\n\n\nRace number\nMr./Ms.\nName\n \n \n\n\n\n\n17\nMr.\nYasuto Fukushima\n32\,263\n27\,829\n\n\n12\nMr.\nLuca Orduna\n29\,05\n28\,945\n\n\n20\nMr.\nKentaro Katori\n31\,267\n29\,21\n\n\n16\nMr.\nStefan Aebi\n29\,327\n29\,351\n\n\n15\nMr.\nHiroya Aihara\n29\,598\n39\,909\n\n\n11\nMr.\nAndres Müller\n31\,751\n30\,623\n\n\n50\nMs.\nMichaela Kieninger\n34\,09\n33\,28\n\n\n19\nMr.\nBrett Rumble\n34\,558\n34\,201\n\n\n14\nMs.\nMoe Kato\n35\,453\n35\,383\n\n\n21\nMr.\nTakaya Hoshi\n37\,795\n36\,38\n\n\n13\nMs.\nRie Katori\n38\,239\n36\,624\n\n\n\nSeniors\n\n\n\nRace number\nMr./Ms.\nName\n \n \n\n\n\n\n41\nMr.\nAldrian Peter\n27\,574\n28\,463\n\n\n34\nMr.\nMunetoshi Date\n28\,953\n28\,45\n\n\n30\nMr.\nJohan Broek\n29\,187\n29\,58\n\n\n35\nMr.\nMagnus Råberg\n30\,655\n31\,735\n\n\n36\nMr.\nHiroshi Suga\n31\,663\n32\,28\n\n\n43\nMr.\nToshiaki Ido\n39\,39\n31\,854\n\n\n36\nMr.\nHiroshi Suga\n31\,663\n32\,28\n\n\n42\nMr.\nIkuya Kameyama\n34\,006\n32\,905\n\n\n39\nMr.\nHisashi Watanabe\n42\,149\n33\,393\n\n\n40\nMr.\nYoshinori Katori\n36\,515\n39\,989\n\n\n32\nMr.\nMasahito Mukai\n40\,672\n37\,768\n\n\n31\nMr.\nToshio Kobayashi\n41\,381\n39\,456\n\n\n33\nMs.\nTomoko Ota\n40\,008\n39\,561\n\n\n37\nMr.\nMasahiko Kaneda\n122\,1\n40\,781\n\n\n38\nMs.\nEtsuko Katori\n49\,44\n49\,691\n\n\n\nSnowboarder\n\n\n\nRace number\nMr./Ms.\nName\n \n \n\n\n\n\n52\nMr.\nJoachim Zagrosek\n34\,9\n35\,78\n\n\n55\nMr.\nHeiko Dalichau\n41\,31\n39\,961\n\n\n53\nMr.\nMichael Mroczek\n52\,847\n40\,424\n\n\n55\nMr.\nHeiko Dalichau\n41\,31\n39\,961\n\n\n51\nMr.\nIan Exley\n41\,66\n41\,001\n\n\n\nWe hope you participate again next year! \nThis event is supported by:\n  \n   \n3rd Inter-Chamber Ski Race 2018 -　Photo Gallery\nHerer you will find some images taken in Hakuba at InterChamber Ski Race 2018!
URL:https://www.abc-jpn.net/event/3rd-inter-chamber-ski-race-closed
CATEGORIES:Past Events
ATTACH;FMTTYPE=image/jpeg:https://www.abc-jpn.net/wp-content/uploads/ski-2018_IMG_2174.jpg
END:VEVENT
END:VCALENDAR