BEGIN:VCALENDAR
VERSION:2.0
PRODID:-//Austrian Business Council - ECPv6.15.20//NONSGML v1.0//EN
CALSCALE:GREGORIAN
METHOD:PUBLISH
X-WR-CALNAME:Austrian Business Council
X-ORIGINAL-URL:https://www.abc-jpn.net
X-WR-CALDESC:Events for Austrian Business Council
REFRESH-INTERVAL;VALUE=DURATION:PT1H
X-Robots-Tag:noindex
X-PUBLISHED-TTL:PT1H
BEGIN:VTIMEZONE
TZID:Asia/Tokyo
BEGIN:STANDARD
TZOFFSETFROM:+0900
TZOFFSETTO:+0900
TZNAME:JST
DTSTART:20240101T000000
END:STANDARD
END:VTIMEZONE
BEGIN:VEVENT
DTSTART;TZID=Asia/Tokyo:20250226T170000
DTEND;TZID=Asia/Tokyo:20250226T180000
DTSTAMP:20260423T180724
CREATED:20250226T030959Z
LAST-MODIFIED:20250324T024304Z
UID:14464-1740589200-1740592800@www.abc-jpn.net
SUMMARY:Webinar – Transfer Pricing in Japan
DESCRIPTION:In this webinar\, we will provide an overview of the fundamental rules on transfer pricing (TP) applicable in Japan\, in collaboration with the Japan office of Forvis Mazars. The focus will be on highlighting the differences between Japanese regulations and internationally recognized and applied provisions. We are inviting Austrian subsidiaries in Japan as well as their Austrian parent companies to participate. Many issues arise from a lack of understanding on one of the two sides or a lack of coordination and communication between subsidiaries and headquarters. \nOur expert from Forvis Mazars Japan\, Mr. Sho Matsukizono\, will provide a general overview of transfer pricing and focus on the following topics: \n\nThe latest figures on tax penalties for violations of Japanese transfer pricing regulations\nTypical questions and discussion points with Japanese tax authorities\nBest practice examples for preparing tax audits related to transfer pricing issues\nAdvance rulings by Japanese tax authorities (so called Advance Pricing Arrangements) – Pros and Cons\nCase studies\n\nDetails & Registration \n\nDate and Time: Wednesday\, 26 February 2025\, 5pm\nWebinar Language: English\nRegistraion: HERE\nAccess Link: The link will be sent to you via email a few days before the webinar\nNote: Only registered participants will receive materials and presentation slides via email after the webinar. If you are unable to attend the webinar live\, please register anyway to receive the materials and the recording of the webinar.\n\nAbout the Speaker\nMr. Sho Matsukizono is a partner at Forvis Mazars Japan who specializes in and has practical experience for more than a decade in the field of transfer pricing (TP). \nDo you have questions or specific TP-related topics you would like to see addressed during the webinar? If so\, please let us know – a short email is all it takes!
URL:https://www.abc-jpn.net/event/transfer-pricing-in-japan
LOCATION:online
CATEGORIES:Past Events
ATTACH;FMTTYPE=image/jpeg:https://www.abc-jpn.net/wp-content/uploads/Signature_Foto-scaled.jpg
ORGANIZER;CN="ADVANTAGE AUSTRIA Tokyo":MAILTO:tokyo@advantageaustria.org
END:VEVENT
END:VCALENDAR