BEGIN:VCALENDAR
VERSION:2.0
PRODID:-//Austrian Business Council - ECPv6.15.20//NONSGML v1.0//EN
CALSCALE:GREGORIAN
METHOD:PUBLISH
X-WR-CALNAME:Austrian Business Council
X-ORIGINAL-URL:https://www.abc-jpn.net
X-WR-CALDESC:Events for Austrian Business Council
REFRESH-INTERVAL;VALUE=DURATION:PT1H
X-Robots-Tag:noindex
X-PUBLISHED-TTL:PT1H
BEGIN:VTIMEZONE
TZID:Asia/Tokyo
BEGIN:STANDARD
TZOFFSETFROM:+0900
TZOFFSETTO:+0900
TZNAME:JST
DTSTART:20200101T000000
END:STANDARD
END:VTIMEZONE
BEGIN:VEVENT
DTSTART;TZID=Asia/Tokyo:20210601T183000
DTEND;TZID=Asia/Tokyo:20210601T203000
DTSTAMP:20260421T181744
CREATED:20210514T040107Z
LAST-MODIFIED:20210602T003052Z
UID:9677-1622572200-1622579400@www.abc-jpn.net
SUMMARY:Asia Neighborhood ABCs Networking Evening
DESCRIPTION:Join us for the next Asia Neighborhood ABCs Networking Evening – virtual again on the REMO platform! \nADVANTAGE AUSTRIA offices / ABCs from Hong Kong\, the Philippines and Thailand join this regional networking event. \nIt is a great opportunitiy to mingle with people from the Austrian business communities of these countries. REMO allows an easy-to-talk\, fun way of getting together substituting for the real thing. \nAhead of the networking\, a representative from each of the four locations provides a snapshot about the current economic and health situation. . \n\n\n\nDate:\nTuesday\, 1 June 2021\n\n\nTime:\n6:30 p.m. Tokyo (5:30 p.m. Hong Kong and Macao/Manila\, 4:30 p.m. Bangkok)\n\n\nParticipation:\nfree of charge\n(registration deadline: 31 May 2021\n\n\nLocation\nvirtual space (REMO)\n\n\n\n 
URL:https://www.abc-jpn.net/event/asia-neighborhood-abcs-networking
LOCATION:virtual space (REMO)
CATEGORIES:Past Events
ATTACH;FMTTYPE=image/png:https://www.abc-jpn.net/wp-content/uploads/Remo-Floorplan.png
ORGANIZER;CN="Austrian Business Council":MAILTO:tokyo@advantageaustria.org
END:VEVENT
END:VCALENDAR