BEGIN:VCALENDAR
VERSION:2.0
PRODID:-//Austrian Business Council - ECPv6.15.20//NONSGML v1.0//EN
CALSCALE:GREGORIAN
METHOD:PUBLISH
X-WR-CALNAME:Austrian Business Council
X-ORIGINAL-URL:https://www.abc-jpn.net
X-WR-CALDESC:Events for Austrian Business Council
REFRESH-INTERVAL;VALUE=DURATION:PT1H
X-Robots-Tag:noindex
X-PUBLISHED-TTL:PT1H
BEGIN:VTIMEZONE
TZID:Asia/Tokyo
BEGIN:STANDARD
TZOFFSETFROM:+0900
TZOFFSETTO:+0900
TZNAME:JST
DTSTART:20250101T000000
END:STANDARD
END:VTIMEZONE
BEGIN:VEVENT
DTSTART;TZID=Asia/Tokyo:20260520T183000
DTEND;TZID=Asia/Tokyo:20260520T203000
DTSTAMP:20260424T230949
CREATED:20260306T000051Z
LAST-MODIFIED:20260421T030832Z
UID:15479-1779301800-1779309000@www.abc-jpn.net
SUMMARY:ABC Annual General Meeting 2026
DESCRIPTION:  \nThe ABC AGM 2026 warmly brings together our member community in Japan for an evening of open exchange\, new ideas\, and meaningful connections – reuniting familiar faces and welcoming new ones. \nMembers of Austrian headquarters\, Austrian business partners\, and friends visiting Japan are welcome to join the ABC community for this evening. If you have a business partner or friend who is considering joining ABC\, feel free to bring them along and introduce them to our community. \nVenue: GARB CENTRAL\nTokyo Garden Terrace Kioicho 1F\, 1‑2 Kioicho\, Chiyoda-ku\, Tokyo MAP\nDate and Time: Wednesday\, 20 May 2026\, 6.30pm to 8.30pm\, doors open at 6.00pm \nParticipation fee: \nABC members: JPY 5\,500 per person \nNote: \n\nFor corporate members: from the 4th person onwards JPY 10\,000 per person\nFor individual individual members or alumni members: from the 2nd person onwards JPY 10\,000 per person\n\nRegistration deadline: Tuesday\, 12 May 2026 at 12.00pm \nPlease register as soon as possible\, as places are limited and allocated on a first‑come\, first‑served basis. Cancellations after the registration deadline or no-shows will be fully charged\, no refund. \nShould you have any questions\, please feel free to contact us at any time. \nWe very much look forward to welcoming you in person!
URL:https://www.abc-jpn.net/event/abc-annual-general-meeting-2026
LOCATION:GARB CENTRAL\, Tokyo Garden Terrace Kioicho 1F\, 1‑2 Kioicho\, Chiyoda-ku
CATEGORIES:Upcoming Events
ATTACH;FMTTYPE=image/jpeg:https://www.abc-jpn.net/wp-content/uploads/Tokyo-Event-4.jpg
ORGANIZER;CN="Austrian Business Council":MAILTO:tokyo@advantageaustria.org
END:VEVENT
END:VCALENDAR